BEGIN:VCALENDAR
VERSION:2.0
PRODID:-//ASCPF - ECPv6.15.20//NONSGML v1.0//EN
CALSCALE:GREGORIAN
METHOD:PUBLISH
X-ORIGINAL-URL:https://www.ascpf.fr
X-WR-CALDESC:Évènements pour ASCPF
REFRESH-INTERVAL;VALUE=DURATION:PT1H
X-Robots-Tag:noindex
X-PUBLISHED-TTL:PT1H
BEGIN:VTIMEZONE
TZID:Europe/Paris
BEGIN:DAYLIGHT
TZOFFSETFROM:+0100
TZOFFSETTO:+0200
TZNAME:CEST
DTSTART:20250330T010000
END:DAYLIGHT
BEGIN:STANDARD
TZOFFSETFROM:+0200
TZOFFSETTO:+0100
TZNAME:CET
DTSTART:20251026T010000
END:STANDARD
BEGIN:DAYLIGHT
TZOFFSETFROM:+0100
TZOFFSETTO:+0200
TZNAME:CEST
DTSTART:20260329T010000
END:DAYLIGHT
BEGIN:STANDARD
TZOFFSETFROM:+0200
TZOFFSETTO:+0100
TZNAME:CET
DTSTART:20261025T010000
END:STANDARD
BEGIN:DAYLIGHT
TZOFFSETFROM:+0100
TZOFFSETTO:+0200
TZNAME:CEST
DTSTART:20270328T010000
END:DAYLIGHT
BEGIN:STANDARD
TZOFFSETFROM:+0200
TZOFFSETTO:+0100
TZNAME:CET
DTSTART:20271031T010000
END:STANDARD
END:VTIMEZONE
BEGIN:VEVENT
DTSTART;TZID=Europe/Paris:20260521T200000
DTEND;TZID=Europe/Paris:20260521T230000
DTSTAMP:20260420T122448
CREATED:20260416T142547Z
LAST-MODIFIED:20260416T142745Z
UID:38922-1779393600-1779404400@www.ascpf.fr
SUMMARY:La séance parisienne de mai. Attention date décalée à cause des jours féries.
DESCRIPTION:Présentation et critique de photos
URL:https://www.ascpf.fr/evenement/la-seance-parisienne-de-mai/
LOCATION:Maison de la Géologie\, 77 rue Claude Bernard\, Paris\, 75005
ORGANIZER;CN="Lo%C3%AFc de La Racheraye":MAILTO:president@ascpf.fr
END:VEVENT
BEGIN:VEVENT
DTSTART;TZID=Europe/Paris:20260523T093000
DTEND;TZID=Europe/Paris:20260523T180000
DTSTAMP:20260420T122448
CREATED:20260213T105955Z
LAST-MODIFIED:20260218T212009Z
UID:38537-1779528600-1779559200@www.ascpf.fr
SUMMARY:Stage photo animalière à l'espace Rambouillet
DESCRIPTION:Ce stage présentera différente technique pour faire de la photo animalière.\n– La connaissance du sujet\n– Les techniques d’approche\,\n– La composition de l’image\n– Les réglages de l’appareil en fonction de l’espèce recherchée\n– Comment éviter les dérangements et savoir renoncer.\n– Critiques des images réalisées pendant la journée et améliorations. \nCoût du stage : 60€ la demi-journée (3H)\, 100€ la journée (6h)\nInscription : president@ascpf.com
URL:https://www.ascpf.fr/evenement/stage-photo-animaliere-a-lespace-rambouillet/
LOCATION:Rambouillet\, espace Rambouillet\, Rambouillet\, 78120\, France
ORGANIZER;CN="Lo%C3%AFc de La Racheraye":MAILTO:president@ascpf.fr
END:VEVENT
BEGIN:VEVENT
DTSTART;TZID=Europe/Paris:20260611T200000
DTEND;TZID=Europe/Paris:20260611T223000
DTSTAMP:20260420T122448
CREATED:20260416T142918Z
LAST-MODIFIED:20260416T142918Z
UID:38925-1781208000-1781217000@www.ascpf.fr
SUMMARY:Séance parisienne de juin
DESCRIPTION:Présentation et critique de photos
URL:https://www.ascpf.fr/evenement/seance-parisienne-de-juin/
LOCATION:Maison de la Géologie\, 77 rue Claude Bernard\, Paris\, 75005
ORGANIZER;CN="Lo%C3%AFc de La Racheraye":MAILTO:president@ascpf.fr
END:VEVENT
END:VCALENDAR